BEGIN:VCALENDAR
VERSION:2.0
PRODID:-//North Tahoe Event Center - ECPv6.15.20//NONSGML v1.0//EN
CALSCALE:GREGORIAN
METHOD:PUBLISH
X-ORIGINAL-URL:https://northtahoeevents.com
X-WR-CALDESC:Events for North Tahoe Event Center
REFRESH-INTERVAL;VALUE=DURATION:PT1H
X-Robots-Tag:noindex
X-PUBLISHED-TTL:PT1H
BEGIN:VTIMEZONE
TZID:America/Los_Angeles
BEGIN:DAYLIGHT
TZOFFSETFROM:-0800
TZOFFSETTO:-0700
TZNAME:PDT
DTSTART:20240310T100000
END:DAYLIGHT
BEGIN:STANDARD
TZOFFSETFROM:-0700
TZOFFSETTO:-0800
TZNAME:PST
DTSTART:20241103T090000
END:STANDARD
BEGIN:DAYLIGHT
TZOFFSETFROM:-0800
TZOFFSETTO:-0700
TZNAME:PDT
DTSTART:20250309T100000
END:DAYLIGHT
BEGIN:STANDARD
TZOFFSETFROM:-0700
TZOFFSETTO:-0800
TZNAME:PST
DTSTART:20251102T090000
END:STANDARD
BEGIN:DAYLIGHT
TZOFFSETFROM:-0800
TZOFFSETTO:-0700
TZNAME:PDT
DTSTART:20260308T100000
END:DAYLIGHT
BEGIN:STANDARD
TZOFFSETFROM:-0700
TZOFFSETTO:-0800
TZNAME:PST
DTSTART:20261101T090000
END:STANDARD
END:VTIMEZONE
BEGIN:VEVENT
DTSTART;TZID=America/Los_Angeles:20251022T170000
DTEND;TZID=America/Los_Angeles:20251022T183000
DTSTAMP:20260422T090258
CREATED:20250922T003033Z
LAST-MODIFIED:20251022T020043Z
UID:10000363-1761152400-1761157800@northtahoeevents.com
SUMMARY:Cricket at the Park
DESCRIPTION:Cricket at the Park – New This Fall \nStep onto the pitch and be part of the very first North Tahoe Cricket Club. No experience needed—come learn the game or share your skills with new players. All equipment will be provided. \nWednesdays\, September 3 – October 29\n5:00–6:30 pm\nAges 18+ \nFree to attend \nDiscover something new\, meet other players\, and help bring cricket to North Lake Tahoe.
URL:https://northtahoeevents.com/event/cricket-at-the-park-8/
LOCATION:North Tahoe Regional Park\, 6600 Donner Road\, Tahoe Vista\, CA\, 96148\, United States
CATEGORIES:Cricket Club
ATTACH;FMTTYPE=image/jpeg:https://northtahoeevents.com/wp-content/uploads/2025/09/NTPUD_CricketAtThePark_FB_1920x1005_0825_v1-scaled-DhRTvN.jpg
END:VEVENT
BEGIN:VEVENT
DTSTART;TZID=America/Los_Angeles:20251029T170000
DTEND;TZID=America/Los_Angeles:20251029T183000
DTSTAMP:20260422T090258
CREATED:20250929T011659Z
LAST-MODIFIED:20251029T023117Z
UID:10000381-1761757200-1761762600@northtahoeevents.com
SUMMARY:Cricket at the Park
DESCRIPTION:Cricket at the Park – New This Fall \nStep onto the pitch and be part of the very first North Tahoe Cricket Club. No experience needed—come learn the game or share your skills with new players. All equipment will be provided. \nWednesdays\, September 3 – October 29\n5:00–6:30 pm\nAges 18+ \nFree to attend \nDiscover something new\, meet other players\, and help bring cricket to North Lake Tahoe.
URL:https://northtahoeevents.com/event/cricket-at-the-park-9/
LOCATION:North Tahoe Regional Park\, 6600 Donner Road\, Tahoe Vista\, CA\, 96148\, United States
CATEGORIES:Cricket Club
ATTACH;FMTTYPE=image/jpeg:https://northtahoeevents.com/wp-content/uploads/2025/09/NTPUD_CricketAtThePark_FB_1920x1005_0825_v1-scaled-DhRTvN.jpg
END:VEVENT
END:VCALENDAR