BEGIN:VCALENDAR
VERSION:2.0
PRODID:-//North Tahoe Event Center - ECPv6.15.20//NONSGML v1.0//EN
CALSCALE:GREGORIAN
METHOD:PUBLISH
X-WR-CALNAME:North Tahoe Event Center
X-ORIGINAL-URL:https://northtahoeevents.com
X-WR-CALDESC:Events for North Tahoe Event Center
REFRESH-INTERVAL;VALUE=DURATION:PT1H
X-Robots-Tag:noindex
X-PUBLISHED-TTL:PT1H
BEGIN:VTIMEZONE
TZID:America/Los_Angeles
BEGIN:DAYLIGHT
TZOFFSETFROM:-0800
TZOFFSETTO:-0700
TZNAME:PDT
DTSTART:20250309T100000
END:DAYLIGHT
BEGIN:STANDARD
TZOFFSETFROM:-0700
TZOFFSETTO:-0800
TZNAME:PST
DTSTART:20251102T090000
END:STANDARD
BEGIN:DAYLIGHT
TZOFFSETFROM:-0800
TZOFFSETTO:-0700
TZNAME:PDT
DTSTART:20260308T100000
END:DAYLIGHT
BEGIN:STANDARD
TZOFFSETFROM:-0700
TZOFFSETTO:-0800
TZNAME:PST
DTSTART:20261101T090000
END:STANDARD
BEGIN:DAYLIGHT
TZOFFSETFROM:-0800
TZOFFSETTO:-0700
TZNAME:PDT
DTSTART:20270314T100000
END:DAYLIGHT
BEGIN:STANDARD
TZOFFSETFROM:-0700
TZOFFSETTO:-0800
TZNAME:PST
DTSTART:20271107T090000
END:STANDARD
END:VTIMEZONE
BEGIN:VEVENT
DTSTART;TZID=America/Los_Angeles:20260514T170000
DTEND;TZID=America/Los_Angeles:20260514T190000
DTSTAMP:20260424T044823
CREATED:20260414T100056Z
LAST-MODIFIED:20260423T174653Z
UID:10000799-1778778000-1778785200@northtahoeevents.com
SUMMARY:North Tahoe Martial Arts
DESCRIPTION:Learn World Tang Soo Doo style of Martial Arts​​\nWorld Tang Soo Do certified instructors Luis + Lulu Segoviano teach participants how martial arts supports health\, self-defense\, respect\, discipline\, and fitness. Monthly belt tests allow students to advance and put their skills to the test. All ages welcome.  \n\n Tuesdays and Thursdays (year-round)\n 5–6pm Beginner (all ages)\n 6–7pm Intermediate/Advanced (all ages)\n\nFees: \n\nResident: $90/monthly\nNon-Resident: $120/monthly\n\nSibling and Family discounts available \n*Free 1-week trial: Register HERE
URL:https://northtahoeevents.com/event/north-tahoe-martial-arts-108/
LOCATION:North Tahoe Event Center\, 8318 North Lake Boulevard\, Kings Beach\, CA\, 96143\, United States
CATEGORIES:Kid Friendly,Marital Arts
ATTACH;FMTTYPE=image/jpeg:https://northtahoeevents.com/wp-content/uploads/2025/12/5_NTPUD-MartialArts-FBCal-010626-JCWyUk.jpg
END:VEVENT
BEGIN:VEVENT
DTSTART;TZID=America/Los_Angeles:20260515T084500
DTEND;TZID=America/Los_Angeles:20260515T094500
DTSTAMP:20260424T044823
CREATED:20260415T100044Z
LAST-MODIFIED:20260423T174653Z
UID:10000800-1778834700-1778838300@northtahoeevents.com
SUMMARY:Jazzercise
DESCRIPTION:Jazzercise is a high intensity\, fun fitness program!\nKeeping North Tahoe fit since 1978!!! Jazzercise is a high intensity\, fun fitness program for all ages that combines cardio\, strength\, stretching\, and fresh\nmusic! All ages welcome. \n\nMondays – Saturdays\, 8:45–9:45am\nInstructor: Ginny Smith\nRegister in person\n\nCost: \nDrop-in: $20 \nPer Month: $70
URL:https://northtahoeevents.com/event/jazzercise-274/
LOCATION:North Tahoe Event Center\, 8318 North Lake Boulevard\, Kings Beach\, CA\, 96143\, United States
CATEGORIES:Jazzersize
ATTACH;FMTTYPE=image/jpeg:https://northtahoeevents.com/wp-content/uploads/2025/12/10_NTPUD-Jazzercise-FBCal-010526-BlMDnN.jpg
END:VEVENT
BEGIN:VEVENT
DTSTART;TZID=America/Los_Angeles:20260516T084500
DTEND;TZID=America/Los_Angeles:20260516T094500
DTSTAMP:20260424T044823
CREATED:20260416T171529Z
LAST-MODIFIED:20260423T174654Z
UID:10000801-1778921100-1778924700@northtahoeevents.com
SUMMARY:Jazzercise
DESCRIPTION:Jazzercise is a high intensity\, fun fitness program!\nKeeping North Tahoe fit since 1978!!! Jazzercise is a high intensity\, fun fitness program for all ages that combines cardio\, strength\, stretching\, and fresh\nmusic! All ages welcome. \n\nMondays – Saturdays\, 8:45–9:45am\nInstructor: Ginny Smith\nRegister in person\n\nCost: \nDrop-in: $20 \nPer Month: $70
URL:https://northtahoeevents.com/event/jazzercise-275/
LOCATION:North Tahoe Event Center\, 8318 North Lake Boulevard\, Kings Beach\, CA\, 96143\, United States
CATEGORIES:Jazzersize
ATTACH;FMTTYPE=image/jpeg:https://northtahoeevents.com/wp-content/uploads/2025/12/10_NTPUD-Jazzercise-FBCal-010526-BlMDnN.jpg
END:VEVENT
BEGIN:VEVENT
DTSTART;TZID=America/Los_Angeles:20260518T084500
DTEND;TZID=America/Los_Angeles:20260518T094500
DTSTAMP:20260424T044823
CREATED:20260418T173025Z
LAST-MODIFIED:20260423T174654Z
UID:10000802-1779093900-1779097500@northtahoeevents.com
SUMMARY:Jazzercise
DESCRIPTION:Jazzercise is a high intensity\, fun fitness program!\nKeeping North Tahoe fit since 1978!!! Jazzercise is a high intensity\, fun fitness program for all ages that combines cardio\, strength\, stretching\, and fresh\nmusic! All ages welcome. \n\nMondays – Saturdays\, 8:45–9:45am\nInstructor: Ginny Smith\nRegister in person\n\nCost: \nDrop-in: $20 \nPer Month: $70
URL:https://northtahoeevents.com/event/jazzercise-276/
LOCATION:North Tahoe Event Center\, 8318 North Lake Boulevard\, Kings Beach\, CA\, 96143\, United States
CATEGORIES:Jazzersize
ATTACH;FMTTYPE=image/jpeg:https://northtahoeevents.com/wp-content/uploads/2025/12/10_NTPUD-Jazzercise-FBCal-010526-BlMDnN.jpg
END:VEVENT
BEGIN:VEVENT
DTSTART;TZID=America/Los_Angeles:20260519T084500
DTEND;TZID=America/Los_Angeles:20260519T094500
DTSTAMP:20260424T044823
CREATED:20260419T173206Z
LAST-MODIFIED:20260423T174654Z
UID:10000803-1779180300-1779183900@northtahoeevents.com
SUMMARY:Jazzercise
DESCRIPTION:Jazzercise is a high intensity\, fun fitness program!\nKeeping North Tahoe fit since 1978!!! Jazzercise is a high intensity\, fun fitness program for all ages that combines cardio\, strength\, stretching\, and fresh\nmusic! All ages welcome. \n\nMondays – Saturdays\, 8:45–9:45am\nInstructor: Ginny Smith\nRegister in person\n\nCost: \nDrop-in: $20 \nPer Month: $70
URL:https://northtahoeevents.com/event/jazzercise-277/
LOCATION:North Tahoe Event Center\, 8318 North Lake Boulevard\, Kings Beach\, CA\, 96143\, United States
CATEGORIES:Jazzersize
ATTACH;FMTTYPE=image/jpeg:https://northtahoeevents.com/wp-content/uploads/2025/12/10_NTPUD-Jazzercise-FBCal-010526-BlMDnN.jpg
END:VEVENT
BEGIN:VEVENT
DTSTART;TZID=America/Los_Angeles:20260519T100000
DTEND;TZID=America/Los_Angeles:20260519T120000
DTSTAMP:20260424T044823
CREATED:20260419T173206Z
LAST-MODIFIED:20260423T174654Z
UID:10000804-1779184800-1779192000@northtahoeevents.com
SUMMARY:Toddler Time
DESCRIPTION:Enjoy a wide open indoor space for your kids to play this winter and spring. Space will be equipped with tumble mats\, toys\, and other fun supplies to support your toddler’s development and socialization. Coffee\, tea\, and snacks provided.  \n“Social & Celebration Lunches” provided every 1st and 3rd Tuesday of the month.  \n• Tuesdays (year-round)\n• Thursdays (September 9 – May 1)\n• 10am–12pm\n• Ages: 0 to 4 (caregivers must be present) \nFREE to attend! Sign up onsite
URL:https://northtahoeevents.com/event/toddler-time-91/
LOCATION:North Tahoe Event Center\, 8318 North Lake Boulevard\, Kings Beach\, CA\, 96143\, United States
CATEGORIES:Community Event,Kid Friendly,Toddler Time
ATTACH;FMTTYPE=image/jpeg:https://northtahoeevents.com/wp-content/uploads/2025/12/8_NTPUD-ToddlerTime-FBCal-010626-pYoX02.jpg
END:VEVENT
BEGIN:VEVENT
DTSTART;TZID=America/Los_Angeles:20260519T113000
DTEND;TZID=America/Los_Angeles:20260519T130000
DTSTAMP:20260424T044823
CREATED:20260419T173206Z
LAST-MODIFIED:20260423T174654Z
UID:10000805-1779190200-1779195600@northtahoeevents.com
SUMMARY:Golden Hour 55+ Socials
DESCRIPTION:Connect and get engaged with local\, active adults.\nEach week unique activities will be offered to keep participants happy\, healthy\, and having fun. Coffee\, tea\, and snacks provided. \nTuesdays | 11:30am–1pm (year-round) \n\n1st Tuesdays — Fitness\, Strength + Mobility\n2nd Tuesdays — Lunch + Games\n3rd Tuesdays — Art with Amanda\n4th Tuesdays — Cooking with Ben\n\nFree to attend!
URL:https://northtahoeevents.com/event/golden-hour-55-socials-58/
LOCATION:North Tahoe Event Center\, 8318 North Lake Boulevard\, Kings Beach\, CA\, 96143\, United States
CATEGORIES:Community Event,Golden Hour,Wellness
ATTACH;FMTTYPE=image/jpeg:https://northtahoeevents.com/wp-content/uploads/2025/12/4_NTPUD-GoldenHour-FBCal-010626-6kBrw8.jpg
END:VEVENT
BEGIN:VEVENT
DTSTART;TZID=America/Los_Angeles:20260519T170000
DTEND;TZID=America/Los_Angeles:20260519T190000
DTSTAMP:20260424T044823
CREATED:20260419T173207Z
LAST-MODIFIED:20260423T174654Z
UID:10000806-1779210000-1779217200@northtahoeevents.com
SUMMARY:North Tahoe Martial Arts
DESCRIPTION:Learn World Tang Soo Doo style of Martial Arts​​\nWorld Tang Soo Do certified instructors Luis + Lulu Segoviano teach participants how martial arts supports health\, self-defense\, respect\, discipline\, and fitness. Monthly belt tests allow students to advance and put their skills to the test. All ages welcome.  \n\n Tuesdays and Thursdays (year-round)\n 5–6pm Beginner (all ages)\n 6–7pm Intermediate/Advanced (all ages)\n\nFees: \n\nResident: $90/monthly\nNon-Resident: $120/monthly\n\nSibling and Family discounts available \n*Free 1-week trial: register HERE
URL:https://northtahoeevents.com/event/north-tahoe-martial-arts-109/
LOCATION:North Tahoe Event Center\, 8318 North Lake Boulevard\, Kings Beach\, CA\, 96143\, United States
CATEGORIES:Kid Friendly,Marital Arts
ATTACH;FMTTYPE=image/jpeg:https://northtahoeevents.com/wp-content/uploads/2025/12/5_NTPUD-MartialArts-FBCal-010626-JCWyUk.jpg
END:VEVENT
BEGIN:VEVENT
DTSTART;TZID=America/Los_Angeles:20260520T084500
DTEND;TZID=America/Los_Angeles:20260520T094500
DTSTAMP:20260424T044823
CREATED:20260420T174546Z
LAST-MODIFIED:20260423T174654Z
UID:10000807-1779266700-1779270300@northtahoeevents.com
SUMMARY:Jazzercise
DESCRIPTION:Jazzercise is a high intensity\, fun fitness program!\nKeeping North Tahoe fit since 1978!!! Jazzercise is a high intensity\, fun fitness program for all ages that combines cardio\, strength\, stretching\, and fresh\nmusic! All ages welcome. \n\nMondays – Saturdays\, 8:45–9:45am\nInstructor: Ginny Smith\nRegister in person\n\nCost: \nDrop-in: $20 \nPer Month: $70
URL:https://northtahoeevents.com/event/jazzercise-278/
LOCATION:North Tahoe Event Center\, 8318 North Lake Boulevard\, Kings Beach\, CA\, 96143\, United States
CATEGORIES:Jazzersize
ATTACH;FMTTYPE=image/jpeg:https://northtahoeevents.com/wp-content/uploads/2025/12/10_NTPUD-Jazzercise-FBCal-010526-BlMDnN.jpg
END:VEVENT
BEGIN:VEVENT
DTSTART;TZID=America/Los_Angeles:20260521T084500
DTEND;TZID=America/Los_Angeles:20260521T094500
DTSTAMP:20260424T044823
CREATED:20260421T174546Z
LAST-MODIFIED:20260423T174654Z
UID:10000808-1779353100-1779356700@northtahoeevents.com
SUMMARY:Jazzercise
DESCRIPTION:Jazzercise is a high intensity\, fun fitness program!\nKeeping North Tahoe fit since 1978!!! Jazzercise is a high intensity\, fun fitness program for all ages that combines cardio\, strength\, stretching\, and fresh\nmusic! All ages welcome. \n\nMondays – Saturdays\, 8:45–9:45am\nInstructor: Ginny Smith\nRegister in person\n\nCost: \nDrop-in: $20 \nPer Month: $70
URL:https://northtahoeevents.com/event/jazzercise-279/
LOCATION:North Tahoe Event Center\, 8318 North Lake Boulevard\, Kings Beach\, CA\, 96143\, United States
CATEGORIES:Jazzersize
ATTACH;FMTTYPE=image/jpeg:https://northtahoeevents.com/wp-content/uploads/2025/12/10_NTPUD-Jazzercise-FBCal-010526-BlMDnN.jpg
END:VEVENT
BEGIN:VEVENT
DTSTART;TZID=America/Los_Angeles:20260521T170000
DTEND;TZID=America/Los_Angeles:20260521T190000
DTSTAMP:20260424T044823
CREATED:20260421T174546Z
LAST-MODIFIED:20260423T174655Z
UID:10000809-1779382800-1779390000@northtahoeevents.com
SUMMARY:North Tahoe Martial Arts
DESCRIPTION:Learn World Tang Soo Doo style of Martial Arts​​\nWorld Tang Soo Do certified instructors Luis + Lulu Segoviano teach participants how martial arts supports health\, self-defense\, respect\, discipline\, and fitness. Monthly belt tests allow students to advance and put their skills to the test. All ages welcome.  \n\n Tuesdays and Thursdays (year-round)\n 5–6pm Beginner (all ages)\n 6–7pm Intermediate/Advanced (all ages)\n\nFees: \n\nResident: $90/monthly\nNon-Resident: $120/monthly\n\nSibling and Family discounts available \n*Free 1-week trial: Register HERE
URL:https://northtahoeevents.com/event/north-tahoe-martial-arts-110/
LOCATION:North Tahoe Event Center\, 8318 North Lake Boulevard\, Kings Beach\, CA\, 96143\, United States
CATEGORIES:Kid Friendly,Marital Arts
ATTACH;FMTTYPE=image/jpeg:https://northtahoeevents.com/wp-content/uploads/2025/12/5_NTPUD-MartialArts-FBCal-010626-JCWyUk.jpg
END:VEVENT
BEGIN:VEVENT
DTSTART;TZID=America/Los_Angeles:20260522T084500
DTEND;TZID=America/Los_Angeles:20260522T094500
DTSTAMP:20260424T044823
CREATED:20260422T174539Z
LAST-MODIFIED:20260423T174655Z
UID:10000810-1779439500-1779443100@northtahoeevents.com
SUMMARY:Jazzercise
DESCRIPTION:Jazzercise is a high intensity\, fun fitness program!\nKeeping North Tahoe fit since 1978!!! Jazzercise is a high intensity\, fun fitness program for all ages that combines cardio\, strength\, stretching\, and fresh\nmusic! All ages welcome. \n\nMondays – Saturdays\, 8:45–9:45am\nInstructor: Ginny Smith\nRegister in person\n\nCost: \nDrop-in: $20 \nPer Month: $70
URL:https://northtahoeevents.com/event/jazzercise-280/
LOCATION:North Tahoe Event Center\, 8318 North Lake Boulevard\, Kings Beach\, CA\, 96143\, United States
CATEGORIES:Jazzersize
ATTACH;FMTTYPE=image/jpeg:https://northtahoeevents.com/wp-content/uploads/2025/12/10_NTPUD-Jazzercise-FBCal-010526-BlMDnN.jpg
END:VEVENT
BEGIN:VEVENT
DTSTART;TZID=America/Los_Angeles:20260523T084500
DTEND;TZID=America/Los_Angeles:20260523T094500
DTSTAMP:20260424T044823
CREATED:20260423T174655Z
LAST-MODIFIED:20260423T174655Z
UID:10000811-1779525900-1779529500@northtahoeevents.com
SUMMARY:Jazzercise
DESCRIPTION:Jazzercise is a high intensity\, fun fitness program!\nKeeping North Tahoe fit since 1978!!! Jazzercise is a high intensity\, fun fitness program for all ages that combines cardio\, strength\, stretching\, and fresh\nmusic! All ages welcome. \n\nMondays – Saturdays\, 8:45–9:45am\nInstructor: Ginny Smith\nRegister in person\n\nCost: \nDrop-in: $20 \nPer Month: $70
URL:https://northtahoeevents.com/event/jazzercise-281/
LOCATION:North Tahoe Event Center\, 8318 North Lake Boulevard\, Kings Beach\, CA\, 96143\, United States
CATEGORIES:Jazzersize
ATTACH;FMTTYPE=image/jpeg:https://northtahoeevents.com/wp-content/uploads/2025/12/10_NTPUD-Jazzercise-FBCal-010526-BlMDnN.jpg
END:VEVENT
END:VCALENDAR