BEGIN:VCALENDAR
VERSION:2.0
PRODID:-//North Tahoe Event Center - ECPv6.15.20//NONSGML v1.0//EN
CALSCALE:GREGORIAN
METHOD:PUBLISH
X-ORIGINAL-URL:https://northtahoeevents.com
X-WR-CALDESC:Events for North Tahoe Event Center
REFRESH-INTERVAL;VALUE=DURATION:PT1H
X-Robots-Tag:noindex
X-PUBLISHED-TTL:PT1H
BEGIN:VTIMEZONE
TZID:America/Los_Angeles
BEGIN:DAYLIGHT
TZOFFSETFROM:-0800
TZOFFSETTO:-0700
TZNAME:PDT
DTSTART:20250309T100000
END:DAYLIGHT
BEGIN:STANDARD
TZOFFSETFROM:-0700
TZOFFSETTO:-0800
TZNAME:PST
DTSTART:20251102T090000
END:STANDARD
BEGIN:DAYLIGHT
TZOFFSETFROM:-0800
TZOFFSETTO:-0700
TZNAME:PDT
DTSTART:20260308T100000
END:DAYLIGHT
BEGIN:STANDARD
TZOFFSETFROM:-0700
TZOFFSETTO:-0800
TZNAME:PST
DTSTART:20261101T090000
END:STANDARD
BEGIN:DAYLIGHT
TZOFFSETFROM:-0800
TZOFFSETTO:-0700
TZNAME:PDT
DTSTART:20270314T100000
END:DAYLIGHT
BEGIN:STANDARD
TZOFFSETFROM:-0700
TZOFFSETTO:-0800
TZNAME:PST
DTSTART:20271107T090000
END:STANDARD
END:VTIMEZONE
BEGIN:VEVENT
DTSTART;TZID=America/Los_Angeles:20260428T170000
DTEND;TZID=America/Los_Angeles:20260428T190000
DTSTAMP:20260424T070626
CREATED:20260329T090120Z
LAST-MODIFIED:20260330T091636Z
UID:10000706-1777395600-1777402800@northtahoeevents.com
SUMMARY:North Tahoe Martial Arts
DESCRIPTION:Learn World Tang Soo Doo style of Martial Arts​​\nWorld Tang Soo Do certified instructors Luis + Lulu Segoviano teach participants how martial arts supports health\, self-defense\, respect\, discipline\, and fitness. Monthly belt tests allow students to advance and put their skills to the test. All ages welcome.  \n\n Tuesdays and Thursdays (year-round)\n 5–6pm Beginner (all ages)\n 6–7pm Intermediate/Advanced (all ages)\n\nFees: \n\nResident: $90/monthly\nNon-Resident: $120/monthly\n\nSibling and Family discounts available \n*Free 1-week trial: register HERE
URL:https://northtahoeevents.com/event/north-tahoe-martial-arts-94/
LOCATION:North Tahoe Event Center\, 8318 North Lake Boulevard\, Kings Beach\, CA\, 96143\, United States
CATEGORIES:Kid Friendly,Marital Arts
ATTACH;FMTTYPE=image/jpeg:https://northtahoeevents.com/wp-content/uploads/2025/12/5_NTPUD-MartialArts-FBCal-010626-JCWyUk.jpg
END:VEVENT
BEGIN:VEVENT
DTSTART;TZID=America/Los_Angeles:20260428T170000
DTEND;TZID=America/Los_Angeles:20260428T190000
DTSTAMP:20260424T070626
CREATED:20260331T091538Z
LAST-MODIFIED:20260423T174650Z
UID:10000739-1777395600-1777402800@northtahoeevents.com
SUMMARY:North Tahoe Martial Arts
DESCRIPTION:Learn World Tang Soo Doo style of Martial Arts​​\nWorld Tang Soo Do certified instructors Luis + Lulu Segoviano teach participants how martial arts supports health\, self-defense\, respect\, discipline\, and fitness. Monthly belt tests allow students to advance and put their skills to the test. All ages welcome.  \n\n Tuesdays and Thursdays (year-round)\n 5–6pm Beginner (all ages)\n 6–7pm Intermediate/Advanced (all ages)\n\nFees: \n\nResident: $90/monthly\nNon-Resident: $120/monthly\n\nSibling and Family discounts available \n*Free 1-week trial: register HERE
URL:https://northtahoeevents.com/event/north-tahoe-martial-arts-103/
LOCATION:North Tahoe Event Center\, 8318 North Lake Boulevard\, Kings Beach\, CA\, 96143\, United States
CATEGORIES:Kid Friendly,Marital Arts
ATTACH;FMTTYPE=image/jpeg:https://northtahoeevents.com/wp-content/uploads/2025/12/5_NTPUD-MartialArts-FBCal-010626-JCWyUk.jpg
END:VEVENT
BEGIN:VEVENT
DTSTART;TZID=America/Los_Angeles:20260430T170000
DTEND;TZID=America/Los_Angeles:20260430T190000
DTSTAMP:20260424T070626
CREATED:20260331T091538Z
LAST-MODIFIED:20260423T174651Z
UID:10000741-1777568400-1777575600@northtahoeevents.com
SUMMARY:North Tahoe Martial Arts
DESCRIPTION:Learn World Tang Soo Doo style of Martial Arts​​\nWorld Tang Soo Do certified instructors Luis + Lulu Segoviano teach participants how martial arts supports health\, self-defense\, respect\, discipline\, and fitness. Monthly belt tests allow students to advance and put their skills to the test. All ages welcome.  \n\n Tuesdays and Thursdays (year-round)\n 5–6pm Beginner (all ages)\n 6–7pm Intermediate/Advanced (all ages)\n\nFees: \n\nResident: $90/monthly\nNon-Resident: $120/monthly\n\nSibling and Family discounts available \n*Free 1-week trial: Register HERE
URL:https://northtahoeevents.com/event/north-tahoe-martial-arts-104/
LOCATION:North Tahoe Event Center\, 8318 North Lake Boulevard\, Kings Beach\, CA\, 96143\, United States
CATEGORIES:Kid Friendly,Marital Arts
ATTACH;FMTTYPE=image/jpeg:https://northtahoeevents.com/wp-content/uploads/2025/12/5_NTPUD-MartialArts-FBCal-010626-JCWyUk.jpg
END:VEVENT
END:VCALENDAR