BEGIN:VCALENDAR
VERSION:2.0
PRODID:-//North Tahoe Event Center - ECPv6.15.20//NONSGML v1.0//EN
CALSCALE:GREGORIAN
METHOD:PUBLISH
X-ORIGINAL-URL:https://northtahoeevents.com
X-WR-CALDESC:Events for North Tahoe Event Center
REFRESH-INTERVAL;VALUE=DURATION:PT1H
X-Robots-Tag:noindex
X-PUBLISHED-TTL:PT1H
BEGIN:VTIMEZONE
TZID:America/Los_Angeles
BEGIN:DAYLIGHT
TZOFFSETFROM:-0800
TZOFFSETTO:-0700
TZNAME:PDT
DTSTART:20250309T100000
END:DAYLIGHT
BEGIN:STANDARD
TZOFFSETFROM:-0700
TZOFFSETTO:-0800
TZNAME:PST
DTSTART:20251102T090000
END:STANDARD
BEGIN:DAYLIGHT
TZOFFSETFROM:-0800
TZOFFSETTO:-0700
TZNAME:PDT
DTSTART:20260308T100000
END:DAYLIGHT
BEGIN:STANDARD
TZOFFSETFROM:-0700
TZOFFSETTO:-0800
TZNAME:PST
DTSTART:20261101T090000
END:STANDARD
BEGIN:DAYLIGHT
TZOFFSETFROM:-0800
TZOFFSETTO:-0700
TZNAME:PDT
DTSTART:20270314T100000
END:DAYLIGHT
BEGIN:STANDARD
TZOFFSETFROM:-0700
TZOFFSETTO:-0800
TZNAME:PST
DTSTART:20271107T090000
END:STANDARD
END:VTIMEZONE
BEGIN:VEVENT
DTSTART;TZID=America/Los_Angeles:20260428T100000
DTEND;TZID=America/Los_Angeles:20260428T120000
DTSTAMP:20260424T065515
CREATED:20260329T090120Z
LAST-MODIFIED:20260330T091636Z
UID:10000704-1777370400-1777377600@northtahoeevents.com
SUMMARY:Toddler Time
DESCRIPTION:Enjoy a wide open indoor space for your kids to play this winter and spring. Space will be equipped with tumble mats\, toys\, and other fun supplies to support your toddler’s development and socialization. Coffee\, tea\, and snacks provided.  \n“Social & Celebration Lunches” provided every 1st and 3rd Tuesday of the month.  \n• Tuesdays (year-round)\n• Thursdays (September 9 – May 1)\n• 10am–12pm\n• Ages: 0 to 4 (caregivers must be present) \nFREE to attend! Sign up onsite
URL:https://northtahoeevents.com/event/toddler-time-78/
LOCATION:North Tahoe Event Center\, 8318 North Lake Boulevard\, Kings Beach\, CA\, 96143\, United States
CATEGORIES:Community Event,Kid Friendly,Toddler Time
ATTACH;FMTTYPE=image/jpeg:https://northtahoeevents.com/wp-content/uploads/2025/12/8_NTPUD-ToddlerTime-FBCal-010626-pYoX02.jpg
END:VEVENT
BEGIN:VEVENT
DTSTART;TZID=America/Los_Angeles:20260428T100000
DTEND;TZID=America/Los_Angeles:20260428T120000
DTSTAMP:20260424T065515
CREATED:20260331T091538Z
LAST-MODIFIED:20260423T174650Z
UID:10000737-1777370400-1777377600@northtahoeevents.com
SUMMARY:Toddler Time
DESCRIPTION:Enjoy a wide open indoor space for your kids to play this winter and spring. Space will be equipped with tumble mats\, toys\, and other fun supplies to support your toddler’s development and socialization. Coffee\, tea\, and snacks provided.  \n“Social & Celebration Lunches” provided every 1st and 3rd Tuesday of the month.  \n• Tuesdays (year-round)\n• Thursdays (September 9 – May 1)\n• 10am–12pm\n• Ages: 0 to 4 (caregivers must be present) \nFREE to attend! Sign up onsite
URL:https://northtahoeevents.com/event/toddler-time-87/
LOCATION:North Tahoe Event Center\, 8318 North Lake Boulevard\, Kings Beach\, CA\, 96143\, United States
CATEGORIES:Community Event,Kid Friendly,Toddler Time
ATTACH;FMTTYPE=image/jpeg:https://northtahoeevents.com/wp-content/uploads/2025/12/8_NTPUD-ToddlerTime-FBCal-010626-pYoX02.jpg
END:VEVENT
BEGIN:VEVENT
DTSTART;TZID=America/Los_Angeles:20260428T170000
DTEND;TZID=America/Los_Angeles:20260428T190000
DTSTAMP:20260424T065515
CREATED:20260329T090120Z
LAST-MODIFIED:20260330T091636Z
UID:10000706-1777395600-1777402800@northtahoeevents.com
SUMMARY:North Tahoe Martial Arts
DESCRIPTION:Learn World Tang Soo Doo style of Martial Arts​​\nWorld Tang Soo Do certified instructors Luis + Lulu Segoviano teach participants how martial arts supports health\, self-defense\, respect\, discipline\, and fitness. Monthly belt tests allow students to advance and put their skills to the test. All ages welcome.  \n\n Tuesdays and Thursdays (year-round)\n 5–6pm Beginner (all ages)\n 6–7pm Intermediate/Advanced (all ages)\n\nFees: \n\nResident: $90/monthly\nNon-Resident: $120/monthly\n\nSibling and Family discounts available \n*Free 1-week trial: register HERE
URL:https://northtahoeevents.com/event/north-tahoe-martial-arts-94/
LOCATION:North Tahoe Event Center\, 8318 North Lake Boulevard\, Kings Beach\, CA\, 96143\, United States
CATEGORIES:Kid Friendly,Marital Arts
ATTACH;FMTTYPE=image/jpeg:https://northtahoeevents.com/wp-content/uploads/2025/12/5_NTPUD-MartialArts-FBCal-010626-JCWyUk.jpg
END:VEVENT
BEGIN:VEVENT
DTSTART;TZID=America/Los_Angeles:20260428T170000
DTEND;TZID=America/Los_Angeles:20260428T190000
DTSTAMP:20260424T065515
CREATED:20260331T091538Z
LAST-MODIFIED:20260423T174650Z
UID:10000739-1777395600-1777402800@northtahoeevents.com
SUMMARY:North Tahoe Martial Arts
DESCRIPTION:Learn World Tang Soo Doo style of Martial Arts​​\nWorld Tang Soo Do certified instructors Luis + Lulu Segoviano teach participants how martial arts supports health\, self-defense\, respect\, discipline\, and fitness. Monthly belt tests allow students to advance and put their skills to the test. All ages welcome.  \n\n Tuesdays and Thursdays (year-round)\n 5–6pm Beginner (all ages)\n 6–7pm Intermediate/Advanced (all ages)\n\nFees: \n\nResident: $90/monthly\nNon-Resident: $120/monthly\n\nSibling and Family discounts available \n*Free 1-week trial: register HERE
URL:https://northtahoeevents.com/event/north-tahoe-martial-arts-103/
LOCATION:North Tahoe Event Center\, 8318 North Lake Boulevard\, Kings Beach\, CA\, 96143\, United States
CATEGORIES:Kid Friendly,Marital Arts
ATTACH;FMTTYPE=image/jpeg:https://northtahoeevents.com/wp-content/uploads/2025/12/5_NTPUD-MartialArts-FBCal-010626-JCWyUk.jpg
END:VEVENT
BEGIN:VEVENT
DTSTART;TZID=America/Los_Angeles:20260430T100000
DTEND;TZID=America/Los_Angeles:20260430T120000
DTSTAMP:20260424T065515
CREATED:20260331T091538Z
LAST-MODIFIED:20260423T174650Z
UID:10000740-1777543200-1777550400@northtahoeevents.com
SUMMARY:Toddler Time
DESCRIPTION:Enjoy a wide open indoor space for your kids to play this winter and spring. Space will be equipped with tumble mats\, toys\, and other fun supplies to support your toddler’s development and socialization. Coffee\, tea\, and snacks provided.  \n“Social & Celebration Lunches” provided every 1st and 3rd Tuesday of the month.  \n• Tuesdays (year-round)\n• Thursdays (September 9 – May 1)\n• 10am–12pm\n• Ages: 0 to 4 (caregivers must be present) \nFREE to attend! Sign up onsite
URL:https://northtahoeevents.com/event/toddler-time-88/
LOCATION:North Tahoe Event Center\, 8318 North Lake Boulevard\, Kings Beach\, CA\, 96143\, United States
CATEGORIES:Community Event,Kid Friendly,Toddler Time
ATTACH;FMTTYPE=image/jpeg:https://northtahoeevents.com/wp-content/uploads/2025/12/8_NTPUD-ToddlerTime-FBCal-010626-pYoX02.jpg
END:VEVENT
BEGIN:VEVENT
DTSTART;TZID=America/Los_Angeles:20260430T170000
DTEND;TZID=America/Los_Angeles:20260430T190000
DTSTAMP:20260424T065515
CREATED:20260331T091538Z
LAST-MODIFIED:20260423T174651Z
UID:10000741-1777568400-1777575600@northtahoeevents.com
SUMMARY:North Tahoe Martial Arts
DESCRIPTION:Learn World Tang Soo Doo style of Martial Arts​​\nWorld Tang Soo Do certified instructors Luis + Lulu Segoviano teach participants how martial arts supports health\, self-defense\, respect\, discipline\, and fitness. Monthly belt tests allow students to advance and put their skills to the test. All ages welcome.  \n\n Tuesdays and Thursdays (year-round)\n 5–6pm Beginner (all ages)\n 6–7pm Intermediate/Advanced (all ages)\n\nFees: \n\nResident: $90/monthly\nNon-Resident: $120/monthly\n\nSibling and Family discounts available \n*Free 1-week trial: Register HERE
URL:https://northtahoeevents.com/event/north-tahoe-martial-arts-104/
LOCATION:North Tahoe Event Center\, 8318 North Lake Boulevard\, Kings Beach\, CA\, 96143\, United States
CATEGORIES:Kid Friendly,Marital Arts
ATTACH;FMTTYPE=image/jpeg:https://northtahoeevents.com/wp-content/uploads/2025/12/5_NTPUD-MartialArts-FBCal-010626-JCWyUk.jpg
END:VEVENT
BEGIN:VEVENT
DTSTART;TZID=America/Los_Angeles:20260505T100000
DTEND;TZID=America/Los_Angeles:20260505T120000
DTSTAMP:20260424T065515
CREATED:20260405T094649Z
LAST-MODIFIED:20260423T174651Z
UID:10000782-1777975200-1777982400@northtahoeevents.com
SUMMARY:Toddler Time
DESCRIPTION:Enjoy a wide open indoor space for your kids to play this winter and spring. Space will be equipped with tumble mats\, toys\, and other fun supplies to support your toddler’s development and socialization. Coffee\, tea\, and snacks provided.  \n“Social & Celebration Lunches” provided every 1st and 3rd Tuesday of the month.  \n• Tuesdays (year-round)\n• Thursdays (September 9 – May 1)\n• 10am–12pm\n• Ages: 0 to 4 (caregivers must be present) \nFREE to attend! Sign up onsite
URL:https://northtahoeevents.com/event/toddler-time-89/
LOCATION:North Tahoe Event Center\, 8318 North Lake Boulevard\, Kings Beach\, CA\, 96143\, United States
CATEGORIES:Community Event,Kid Friendly,Toddler Time
ATTACH;FMTTYPE=image/jpeg:https://northtahoeevents.com/wp-content/uploads/2025/12/8_NTPUD-ToddlerTime-FBCal-010626-pYoX02.jpg
END:VEVENT
BEGIN:VEVENT
DTSTART;TZID=America/Los_Angeles:20260505T170000
DTEND;TZID=America/Los_Angeles:20260505T190000
DTSTAMP:20260424T065515
CREATED:20260405T094650Z
LAST-MODIFIED:20260423T174652Z
UID:10000784-1778000400-1778007600@northtahoeevents.com
SUMMARY:North Tahoe Martial Arts
DESCRIPTION:Learn World Tang Soo Doo style of Martial Arts​​\nWorld Tang Soo Do certified instructors Luis + Lulu Segoviano teach participants how martial arts supports health\, self-defense\, respect\, discipline\, and fitness. Monthly belt tests allow students to advance and put their skills to the test. All ages welcome.  \n\n Tuesdays and Thursdays (year-round)\n 5–6pm Beginner (all ages)\n 6–7pm Intermediate/Advanced (all ages)\n\nFees: \n\nResident: $90/monthly\nNon-Resident: $120/monthly\n\nSibling and Family discounts available \n*Free 1-week trial: register HERE
URL:https://northtahoeevents.com/event/north-tahoe-martial-arts-105/
LOCATION:North Tahoe Event Center\, 8318 North Lake Boulevard\, Kings Beach\, CA\, 96143\, United States
CATEGORIES:Kid Friendly,Marital Arts
ATTACH;FMTTYPE=image/jpeg:https://northtahoeevents.com/wp-content/uploads/2025/12/5_NTPUD-MartialArts-FBCal-010626-JCWyUk.jpg
END:VEVENT
BEGIN:VEVENT
DTSTART;TZID=America/Los_Angeles:20260507T170000
DTEND;TZID=America/Los_Angeles:20260507T190000
DTSTAMP:20260424T065515
CREATED:20260407T094750Z
LAST-MODIFIED:20260423T174652Z
UID:10000787-1778173200-1778180400@northtahoeevents.com
SUMMARY:North Tahoe Martial Arts
DESCRIPTION:Learn World Tang Soo Doo style of Martial Arts​​\nWorld Tang Soo Do certified instructors Luis + Lulu Segoviano teach participants how martial arts supports health\, self-defense\, respect\, discipline\, and fitness. Monthly belt tests allow students to advance and put their skills to the test. All ages welcome.  \n\n Tuesdays and Thursdays (year-round)\n 5–6pm Beginner (all ages)\n 6–7pm Intermediate/Advanced (all ages)\n\nFees: \n\nResident: $90/monthly\nNon-Resident: $120/monthly\n\nSibling and Family discounts available \n*Free 1-week trial: Register HERE
URL:https://northtahoeevents.com/event/north-tahoe-martial-arts-106/
LOCATION:North Tahoe Event Center\, 8318 North Lake Boulevard\, Kings Beach\, CA\, 96143\, United States
CATEGORIES:Kid Friendly,Marital Arts
ATTACH;FMTTYPE=image/jpeg:https://northtahoeevents.com/wp-content/uploads/2025/12/5_NTPUD-MartialArts-FBCal-010626-JCWyUk.jpg
END:VEVENT
BEGIN:VEVENT
DTSTART;TZID=America/Los_Angeles:20260512T100000
DTEND;TZID=America/Los_Angeles:20260512T120000
DTSTAMP:20260424T065515
CREATED:20260412T100029Z
LAST-MODIFIED:20260423T174653Z
UID:10000794-1778580000-1778587200@northtahoeevents.com
SUMMARY:Toddler Time
DESCRIPTION:Enjoy a wide open indoor space for your kids to play this winter and spring. Space will be equipped with tumble mats\, toys\, and other fun supplies to support your toddler’s development and socialization. Coffee\, tea\, and snacks provided.  \n“Social & Celebration Lunches” provided every 1st and 3rd Tuesday of the month.  \n• Tuesdays (year-round)\n• Thursdays (September 9 – May 1)\n• 10am–12pm\n• Ages: 0 to 4 (caregivers must be present) \nFREE to attend! Sign up onsite
URL:https://northtahoeevents.com/event/toddler-time-90/
LOCATION:North Tahoe Event Center\, 8318 North Lake Boulevard\, Kings Beach\, CA\, 96143\, United States
CATEGORIES:Community Event,Kid Friendly,Toddler Time
ATTACH;FMTTYPE=image/jpeg:https://northtahoeevents.com/wp-content/uploads/2025/12/8_NTPUD-ToddlerTime-FBCal-010626-pYoX02.jpg
END:VEVENT
BEGIN:VEVENT
DTSTART;TZID=America/Los_Angeles:20260512T170000
DTEND;TZID=America/Los_Angeles:20260512T190000
DTSTAMP:20260424T065515
CREATED:20260412T100029Z
LAST-MODIFIED:20260423T174653Z
UID:10000796-1778605200-1778612400@northtahoeevents.com
SUMMARY:North Tahoe Martial Arts
DESCRIPTION:Learn World Tang Soo Doo style of Martial Arts​​\nWorld Tang Soo Do certified instructors Luis + Lulu Segoviano teach participants how martial arts supports health\, self-defense\, respect\, discipline\, and fitness. Monthly belt tests allow students to advance and put their skills to the test. All ages welcome.  \n\n Tuesdays and Thursdays (year-round)\n 5–6pm Beginner (all ages)\n 6–7pm Intermediate/Advanced (all ages)\n\nFees: \n\nResident: $90/monthly\nNon-Resident: $120/monthly\n\nSibling and Family discounts available \n*Free 1-week trial: register HERE
URL:https://northtahoeevents.com/event/north-tahoe-martial-arts-107/
LOCATION:North Tahoe Event Center\, 8318 North Lake Boulevard\, Kings Beach\, CA\, 96143\, United States
CATEGORIES:Kid Friendly,Marital Arts
ATTACH;FMTTYPE=image/jpeg:https://northtahoeevents.com/wp-content/uploads/2025/12/5_NTPUD-MartialArts-FBCal-010626-JCWyUk.jpg
END:VEVENT
BEGIN:VEVENT
DTSTART;TZID=America/Los_Angeles:20260514T170000
DTEND;TZID=America/Los_Angeles:20260514T190000
DTSTAMP:20260424T065515
CREATED:20260414T100056Z
LAST-MODIFIED:20260423T174653Z
UID:10000799-1778778000-1778785200@northtahoeevents.com
SUMMARY:North Tahoe Martial Arts
DESCRIPTION:Learn World Tang Soo Doo style of Martial Arts​​\nWorld Tang Soo Do certified instructors Luis + Lulu Segoviano teach participants how martial arts supports health\, self-defense\, respect\, discipline\, and fitness. Monthly belt tests allow students to advance and put their skills to the test. All ages welcome.  \n\n Tuesdays and Thursdays (year-round)\n 5–6pm Beginner (all ages)\n 6–7pm Intermediate/Advanced (all ages)\n\nFees: \n\nResident: $90/monthly\nNon-Resident: $120/monthly\n\nSibling and Family discounts available \n*Free 1-week trial: Register HERE
URL:https://northtahoeevents.com/event/north-tahoe-martial-arts-108/
LOCATION:North Tahoe Event Center\, 8318 North Lake Boulevard\, Kings Beach\, CA\, 96143\, United States
CATEGORIES:Kid Friendly,Marital Arts
ATTACH;FMTTYPE=image/jpeg:https://northtahoeevents.com/wp-content/uploads/2025/12/5_NTPUD-MartialArts-FBCal-010626-JCWyUk.jpg
END:VEVENT
BEGIN:VEVENT
DTSTART;TZID=America/Los_Angeles:20260519T100000
DTEND;TZID=America/Los_Angeles:20260519T120000
DTSTAMP:20260424T065515
CREATED:20260419T173206Z
LAST-MODIFIED:20260423T174654Z
UID:10000804-1779184800-1779192000@northtahoeevents.com
SUMMARY:Toddler Time
DESCRIPTION:Enjoy a wide open indoor space for your kids to play this winter and spring. Space will be equipped with tumble mats\, toys\, and other fun supplies to support your toddler’s development and socialization. Coffee\, tea\, and snacks provided.  \n“Social & Celebration Lunches” provided every 1st and 3rd Tuesday of the month.  \n• Tuesdays (year-round)\n• Thursdays (September 9 – May 1)\n• 10am–12pm\n• Ages: 0 to 4 (caregivers must be present) \nFREE to attend! Sign up onsite
URL:https://northtahoeevents.com/event/toddler-time-91/
LOCATION:North Tahoe Event Center\, 8318 North Lake Boulevard\, Kings Beach\, CA\, 96143\, United States
CATEGORIES:Community Event,Kid Friendly,Toddler Time
ATTACH;FMTTYPE=image/jpeg:https://northtahoeevents.com/wp-content/uploads/2025/12/8_NTPUD-ToddlerTime-FBCal-010626-pYoX02.jpg
END:VEVENT
BEGIN:VEVENT
DTSTART;TZID=America/Los_Angeles:20260519T170000
DTEND;TZID=America/Los_Angeles:20260519T190000
DTSTAMP:20260424T065515
CREATED:20260419T173207Z
LAST-MODIFIED:20260423T174654Z
UID:10000806-1779210000-1779217200@northtahoeevents.com
SUMMARY:North Tahoe Martial Arts
DESCRIPTION:Learn World Tang Soo Doo style of Martial Arts​​\nWorld Tang Soo Do certified instructors Luis + Lulu Segoviano teach participants how martial arts supports health\, self-defense\, respect\, discipline\, and fitness. Monthly belt tests allow students to advance and put their skills to the test. All ages welcome.  \n\n Tuesdays and Thursdays (year-round)\n 5–6pm Beginner (all ages)\n 6–7pm Intermediate/Advanced (all ages)\n\nFees: \n\nResident: $90/monthly\nNon-Resident: $120/monthly\n\nSibling and Family discounts available \n*Free 1-week trial: register HERE
URL:https://northtahoeevents.com/event/north-tahoe-martial-arts-109/
LOCATION:North Tahoe Event Center\, 8318 North Lake Boulevard\, Kings Beach\, CA\, 96143\, United States
CATEGORIES:Kid Friendly,Marital Arts
ATTACH;FMTTYPE=image/jpeg:https://northtahoeevents.com/wp-content/uploads/2025/12/5_NTPUD-MartialArts-FBCal-010626-JCWyUk.jpg
END:VEVENT
BEGIN:VEVENT
DTSTART;TZID=America/Los_Angeles:20260521T170000
DTEND;TZID=America/Los_Angeles:20260521T190000
DTSTAMP:20260424T065515
CREATED:20260421T174546Z
LAST-MODIFIED:20260423T174655Z
UID:10000809-1779382800-1779390000@northtahoeevents.com
SUMMARY:North Tahoe Martial Arts
DESCRIPTION:Learn World Tang Soo Doo style of Martial Arts​​\nWorld Tang Soo Do certified instructors Luis + Lulu Segoviano teach participants how martial arts supports health\, self-defense\, respect\, discipline\, and fitness. Monthly belt tests allow students to advance and put their skills to the test. All ages welcome.  \n\n Tuesdays and Thursdays (year-round)\n 5–6pm Beginner (all ages)\n 6–7pm Intermediate/Advanced (all ages)\n\nFees: \n\nResident: $90/monthly\nNon-Resident: $120/monthly\n\nSibling and Family discounts available \n*Free 1-week trial: Register HERE
URL:https://northtahoeevents.com/event/north-tahoe-martial-arts-110/
LOCATION:North Tahoe Event Center\, 8318 North Lake Boulevard\, Kings Beach\, CA\, 96143\, United States
CATEGORIES:Kid Friendly,Marital Arts
ATTACH;FMTTYPE=image/jpeg:https://northtahoeevents.com/wp-content/uploads/2025/12/5_NTPUD-MartialArts-FBCal-010626-JCWyUk.jpg
END:VEVENT
END:VCALENDAR